BEGIN:VCALENDAR
VERSION:2.0
PRODID:-//wp-events-plugin.com//7.2.3.1//EN
BEGIN:VEVENT
UID:74@ani.pt
DTSTART:20240627T000000Z
DTEND:20240627T234500Z
DTSTAMP:20241127T152407Z
URL:https://ani.pt/en/concursos/open-call-26-from-the-eurogia-cluster/
SUMMARY:OPEN CALL 26 FROM THE EUROGIA CLUSTER
DESCRIPTION:Submissions until June 27\nLaunched on April 25\, Call 26 of th
 e Eurogia Cluster is open until June 27\, 2024\, at 5:00 PM CET.\n\nWithin
  the scope of Call 26\, international R&amp\;D projects are included in th
 e following domains:\n\n 	Offshore wind turbines\, bioenergy\, solar panel
 s\, power-to-X fuel cells\, energy storage\;\n 	Hydrogen fuel cells (produ
 ction\, storage\, station)\;\n 	CO2 Capture\, Retention\, and Utilization\
 ;\n 	Green and zero-emission buildings\, smart cities\, heating\;\n 	IT so
 lutions in buildings\, smart monitoring\, 3D construction\, digital twins 
 in housing projects\;\n 	Integrated AI\, IoT\, Big Data\, and 5G/6G soluti
 ons in cities\;\n 	Smart grids\, microgrids\, e-mobility\;\n 	Environmenta
 l and biological resource monitoring\;\n 	Land\, river\, and sea monitorin
 g systems using drones and satellites\, industrial robots\, sensors\, edge
  computing\, spectroscopy\, Raman\, AI\, big data\;\n 	Other technologies 
 present in the Eurogia 5Ds strategy.\n\nFor more information\, consult her
 e.
ATTACH;FMTTYPE=image/jpeg:https://ani.pt/wp-content/uploads/2024/07/eurogi
 acall26-2.png
CATEGORIES:International,Open
END:VEVENT
END:VCALENDAR