BEGIN:VCALENDAR
VERSION:2.0
PRODID:-//wp-events-plugin.com//7.2.3.1//EN
BEGIN:VEVENT
UID:64@ani.pt
DTSTART:20240419T000000Z
DTEND:20240918T234500Z
DTSTAMP:20241127T130055Z
URL:https://ani.pt/en/concursos/horizon-europe-eic-transition-2024-call/
SUMMARY:HORIZON EUROPE: EIC TRANSITION 2024 CALL
DESCRIPTION:\nOpening of the Call\nThe 2024 call for EIC Transition is now 
 open and will remain open until September 18. This financing instrument a
 ims to foster the transition from research and development to innovation (
 TRL 4 to TRL 5/6).\n\nIn addition to the eligibility conditions previously
  established in earlier calls (EIC Pathfinder e FET Open/Proactive\; ERC P
 roof of Concept\; EDF)\, participation has been expanded to include proje
 cts (RIAs) from any scientific or technological area funded under societ
 al challenges and/or leading industrial technologies within H2020 or an
 y Pillar II cluster within Horizon Europe.\n\nParticipation is allowed o
 n an individual or collaborative basis\, with up to 5 entities (SMEs\,
  start-ups\, spin-offs\, CTIs\, universities\, etc.). Participation may a
 lso be extended to entities that were not part of the eligible projects\, 
 provided agreements for scale-up and commercial exploitation of result
 s with the initial consortium are safeguarded.\n\nOnly projects that have 
 been active for more than 12 months or completed within 30 months will
  be considered eligible.\n\nFor further details and more information\, con
 sult the 2024 Work Programme for the EIC and access the call on the Fundin
 gs &amp\; Tenders portal here.\n\n\n
ATTACH;FMTTYPE=image/jpeg:https://ani.pt/wp-content/uploads/2024/08/notici
 as_eictransition2024-3.png
CATEGORIES:International,Open
END:VEVENT
END:VCALENDAR