BEGIN:VCALENDAR
VERSION:2.0
PRODID:-//wp-events-plugin.com//7.2.3.1//EN
BEGIN:VEVENT
UID:61@ani.pt
DTSTART:20240305T000000Z
DTEND:20240618T234500Z
DTSTAMP:20241127T120240Z
URL:https://ani.pt/en/concursos/9th-edition-of-the-european-capital-of-inn
 ovation-awards/
SUMMARY:9th EDITION OF THE EUROPEAN CAPITAL OF INNOVATION AWARDS
DESCRIPTION:On March 5\, applications opened for the 9th edition of the Eur
 opean Capital of Innovation Awards (iCapital).\n\nThis competition annuall
 y recognizes cities with inclusive innovation ecosystems\, seeking to iden
 tify urban ecosystems that connect citizens\, the public sector\, academia
 \, and businesses\, translating into results that improve the well-being o
 f their citizens and promote disruptive innovations.\n\nIn addition to the
  main category\, European Capital of Innovation\, intended for cities with
  more than 250\,000 inhabitants\, the category "Rising Innovative City" is
  also included to reward cities with more than 50\,000 and fewer than 250\
 ,000 inhabitants.\n\nThe top three cities in each category will receive a 
 monetary prize\, as well as all the visibility and recognition associated 
 with such initiatives.\n\nThe iCapital Prize is promoted by the EIC\, whos
 e activities in Portugal are supported by ANI\, within the framework of th
 e PERIN Network. Portugal has a support network for national participation
  in European Commission initiatives that finance and promote research and 
 innovation.\n\nApplications are open until June 18\, 2024\, and additional
  information about the prize and the respective participation rules can be
  found here.\n\nFor any questions or clarification\, do not hesitate to co
 ntact Cláudia Azevedo (claudia.azevedo@ani.pt)
ATTACH;FMTTYPE=image/jpeg:https://ani.pt/wp-content/uploads/2024/07/EIC_iC
 AP2024_KV__1920x1080final.jpg
CATEGORIES:Companies,Interface Mission,International,Open
END:VEVENT
END:VCALENDAR