BEGIN:VCALENDAR
VERSION:2.0
PRODID:-//wp-events-plugin.com//7.2.3.1//EN
BEGIN:VEVENT
UID:23@ani.pt
DTSTART:20231130T000000Z
DTEND:20241230T180000Z
DTSTAMP:20241127T163601Z
URL:https://ani.pt/concursos/siid-id-empresarial-operacoes-em-copromocao-o
 utros-territorios/
SUMMARY:SIID - I&D EMPRESARIAL - OPERAÇÕES EM COPROMOÇÃO - OUTROS TERRI
 TÓRIOS
DESCRIPTION:Código do Aviso:\nMPr-2023-7\nEntidades Beneficiárias\nMicro\
 , Pequenas e Médias Empresas\, Small Mid Caps\nEntidades Não Empresariai
 s do Sistema de I&amp\;I\n\n[learn_more caption="Tipologia de apoio e áre
 a geográfica abrangida"]\n\nSão apoiadas neste aviso\, operações de In
 vestigação e Desenvolvimento (I&amp\;D) na modalidade em copromoção\, 
 realizadas entre empresas e/ou com entidades não empresariais do Sistema 
 de I&amp\;I (ENESII)\, alinhadas com os domínios prioritários da Estrat
 égia de Investigação e Inovação para uma Especialização Inteligente
  (RIS3)\, as quais compreendem investimentos em atividades de investigaç
 ão industrial e de desenvolvimento experimental\, estimulando a sua valor
 ização económica e a promoção de inovação.\n\nSão suscetíveis de 
 apoio as operações que integram atividades de investigação industrial 
 e de desenvolvimento experimental\, conducentes à criação de novos prod
 utos\, processos ou serviços ou à introdução de melhorias significativ
 as em produtos\, processos ou serviços existentes.\n\nO presente aviso te
 m aplicação nas regiões NUTS II do Continente (Norte\, Centro\, Lisboa\
 , Alentejo e Algarve)\, fora dos territórios de baixa densidade definidos
  pela CIC Portugal 2020 (Territórios de Baixa Densidade)\, sem prejuízo 
 do disposto no parágrafo anterior quanto às Regiões Autónomas dos Aço
 res e da Madeira. A localização do projeto corresponde à região onde 
 é localizado o investimento.\n\n[/learn_more][learn_more caption="Forma d
 e Apoio"]\n\nO apoio a conceder assume a forma de subvenção não reembol
 sável.\n\n[/learn_more][learn_more caption="Dotação e taxa máxima de c
 ofinanciamento"]\n\ndotação\n\n\nDotação fundo indicativa disponível 
 neste aviso\nFundo\nTaxa máxima de cofinanciamento*\n\n\nPITD – 23.000.
 000 €\nFEDER\n80%\n\n\nPR Norte –  13.500.000€\nFEDER\n80%\n\n\nPR 
 Centro –  3.500.000€\nFEDER\n80%\n\n\nPR Lisboa –   4.000.000€\
 nFEDER\n40%\n\n\nPR Alentejo –   200.000€\nFEDER\n80%\n\n\nPR Algarv
 e –  2.000.000€\nFEDER\n80%\n\n\n\nDotação Global do Aviso 46.200.0
 00€\n\n*Sem prejuízo da taxa máxima aplicável às ENESII (85%)\n\n[/l
 earn_more][learn_more caption="Período de Candidatura"]\n\nO período de 
 candidaturas inicia-se em 30/11/2023\, sendo a análise e decisão efetuad
 a de acordo com as seguintes fases:\n\n 	Fase 1: 22/02/2024 (18 h) – exc
 lusivamente para os candidatos que efetuaram o registo do pedido de auxíl
 io através do Aviso n.º 01/RPA/2022.\n 	Fase 2: 30/04/2024 (18 h) – pa
 ra todas as candidaturas\, com ou sem registo do pedido de auxílio atrav
 és do Aviso n.º 01/RPA/2022.\n 	Fase 3: 30/08/2024 (18 h) – para todas
  as candidaturas\, com ou sem registo do pedido de auxílio através do Av
 iso n.º 01/RPA/2022.\n 	Fase 4: 30/12/2024 (18 h) – para todas as candi
 daturas\, com ou sem registo do pedido de auxílio através do Aviso n.º 
 01/RPA/2022.\n\nOs Registos de Pedido de Auxílio (RPA n.º 01/RPA/2022 ao
  I&amp\;D) podem ser usados em qualquer aviso do I&amp\;D em que esteja pr
 evista essa possibilidade. Estes RPA apenas podem ser utilizados numa úni
 ca candidatura.\n\n[/learn_more]\n\nVer mais informação e documentação
ATTACH;FMTTYPE=image/jpeg:https://ani.pt/wp-content/uploads/2024/08/notici
 as_SIID-_ID-EMPRESARIAL_copromocao_outrosterritorios.png
CATEGORIES:Avisos PT2030,Nacionais
END:VEVENT
END:VCALENDAR