BEGIN:VCALENDAR
VERSION:2.0
PRODID:-//wp-events-plugin.com//7.2.3.1//EN
BEGIN:VEVENT
UID:37@ani.pt
DTSTART:20240419T000000Z
DTEND:20240918T234500Z
DTSTAMP:20240826T103513Z
URL:https://ani.pt/concursos/horizonte-europa-concurso-eic-transition-2024
 /
SUMMARY:HORIZONTE EUROPA: CONCURSO EIC TRANSITION 2024
DESCRIPTION:\nAbertura de concurso\nO concurso de 2024 para o EIC Transitio
 n encontra-se aberto e prolonga-se até ao dia 18 de setembro. Este instru
 mento de financiamento visa fomentar a transição da investigação e des
 envolvimento para a inovação (TRL 4 até TRL 5/6).\n\nAlém das condiç
 ões de elegibilidade previamente estabelecidas nos concursos anteriores (
 EIC Pathfinder e FET Open/Proactive\; ERC Proof of Concept\; EDF)\, este a
 no foi ampliada a possibilidade de participação para projetos (RIAs) de 
 qualquer área científica e tecnológica que tenham sido financiados nos 
 desafios societais e/ou tecnologias industriais líderes dentro do H2020 o
 u em qualquer cluster do Pilar II dentro Horizonte Europa.\n\nÉ permitida
  a participação individual ou colaborativa\, até 5 entidades (PMEs\, St
 art-ups\, Spin-offs\, CTIs\, Universidades\, ...). A participação pode s
 er alargada a entidades que não tenham participado nos projetos elegívei
 s\, desde que salvaguardados os respetivos acordos para o scale-up e explo
 ração comercial dos resultados junto do consórcio inicial.\n\nSerão co
 nsiderados elegíveis apenas os projetos ativos há mais de 12 meses ou co
 ncluídos no prazo de 30 meses.\n\nPode consultar mais informações e det
 alhes no Programa de Trabalhos 2024 para o EIC e aceder ao concurso no por
 tal Fundings&amp\;Tenders aqui.\n\n\n
ATTACH;FMTTYPE=image/jpeg:https://ani.pt/wp-content/uploads/2024/08/notici
 as_eictransition2024-3.png
CATEGORIES:Abertos,Internacionais
END:VEVENT
END:VCALENDAR