BEGIN:VCALENDAR
VERSION:2.0
PRODID:-//wp-events-plugin.com//7.2.3.1//EN
BEGIN:VEVENT
UID:35@ani.pt
DTSTART:20240712T000000Z
DTEND:20240912T234500Z
DTSTAMP:20240826T104804Z
URL:https://ani.pt/concursos/een-eureka-eurostars-sustainability-matchmaki
 ng-platform/
SUMMARY:EEN-EUREKA | EUROSTARS SUSTAINABILITY MATCHMAKING PLATFORM
DESCRIPTION:Submissão de candidaturas de 12 de julho a 12 de setembro\nA 7
 ª convocatória do Eurostars para projetos de I&amp\;D em copromoção ab
 re a 12 de julho e está já ativa a plataforma Eurostars Sustainability M
 atchmaking e marketplace virtual para facilitar a formação de parcerias.
  Portugal é país membro.\n\nNo Marketplace virtual\, os participantes po
 dem convidar e marcar reuniões online para discutir oportunidades de coop
 eração. Esta plataforma virtual de matchmaking estará ativa até 12 de 
 setembro de 2024. Os participantes podem agendar e participar de reuniões
  virtuais individuais 24 horas por dia\, 7 dias por semana. Além disso\, 
 todos os participantes podem enviar mensagens entre si através da ferrame
 nta de mensagens incorporada. Informação adicional aqui.\n\nA 7ª convoc
 atória do Eurostars convida consórcios a aplicar projetos de I&amp\;D de
  alta qualidade em todos os domínios tecnológicos. No entanto\, nesta pl
 ataforma\, os países participantes mencionados acolhem em particular prop
 ostas de projetos sustentáveis nas áreas de:\n\n 	Energia\, eficiência 
 energética e armazenamento\,\n 	Agricultura: alimentos/ração\,\n 	Trans
 porte e mobilidade\,\n 	Manufatura\,\n 	Materiais/compósitos avançados\n
 \nConsulte aqui todos os países que podem participar na convocatória 7 d
 o Eurostars. As candidaturas para projetos de I&amp\;D podem ser submetida
 s entre 12 de julho e 12 de setembro de 2024.\n\nRegiste-se aqui. Os parti
 cipantes podem registar-se e realizar reuniões virtuais na plataforma de 
 matchmaking até 12 de setembro de 2024.\n\nO Marketplace virtual realiza-
 se no âmbito da rede EEN - Enterprise Europe Network\, sendo coordenado p
 ela Netherlands Enterprise Agency (RVO) e coorganizado pela ANI.
ATTACH;FMTTYPE=image/jpeg:https://ani.pt/wp-content/uploads/2024/08/notici
 as_eurostars_sustainability_platform-1.png
CATEGORIES:Abertos,Internacionais
END:VEVENT
END:VCALENDAR