BEGIN:VCALENDAR
VERSION:2.0
PRODID:-//wp-events-plugin.com//7.2.3.1//EN
BEGIN:VEVENT
UID:14@ani.pt
DTSTART:20240627T000000Z
DTEND:20240627T234500Z
DTSTAMP:20240826T103923Z
URL:https://ani.pt/concursos/aberta-convocatoria-26-do-cluster-eurogia/
SUMMARY:ABERTA CONVOCATÓRIA 26 DO CLUSTER EUROGIA
DESCRIPTION:Submissões até 27 de junho\nFoi lançada\, no dia 25 de abril
 \, a Call 26 do Cluster Eurogia. Esta convocatória encontra-se aberta at
 é dia 27 de junho de 2024\, pelas 17:00 CET.\n\nNo âmbito da Call 26 est
 ão incluídos projetos internacionais de I&amp\;D nos seguintes domínios
 :\n\n 	Turbinas eólicas offshore\, bioenergia\, painéis solares\, célul
 as de combustível power to-X\, armazenamento de energia\;\n 	Célula de c
 ombustível de hidrogénio (produção\, armazenamento\, estação)\;\n 	C
 aptura\, retenção e Utilização de CO2\;\n 	Edifícios verdes e com emi
 ssão zero\, cidades inteligentes\, aquecimento\;\n 	Soluções de TI em e
 difícios\, monitoramento inteligente\, construção 3D\, gêmeos digitais
  em projetos habitacionais\;\n 	Soluções integradas de IA\, IoT\, Bigdat
 a e 5G/6G nas cidades\;\n 	Redes Inteligentes\, Microrrede\, E-mobilidade\
 ;\n 	Monitorização do do meio ambiente e dos recursos biológicos\;\n 	S
 istemas de monitorização de terra\, rios e mar por drones e satélites R
 obôs industriais\, sensores\, computação em nuvem de ponta\, espectrome
 tria de massa\; Raman\, IA\, big data\;\n 	Outras tecnologias presentes na
  Eurogia 5Ds strategy.\n\nConsulte mais informações aqui.
ATTACH;FMTTYPE=image/jpeg:https://ani.pt/wp-content/uploads/2024/07/eurogi
 acall26-2.png
CATEGORIES:Abertos,Internacionais
END:VEVENT
END:VCALENDAR