BEGIN:VCALENDAR
VERSION:2.0
BEGIN:VEVENT
DTSTART:20250715
DTEND:20250715
SUMMARY:ANI promove workshop prático de escrita de propostas para o Pilar 2 do Horizonte Europa
DESCRIPTION:Evento disponível no site: https://ani.pt/evento/ani-promove-workshop-pratico-de-escrita-de-propostas-para-o-pilar-2-do-horizonte-europa/
LOCATION:Local do evento
URL:https://ani.pt/evento/ani-promove-workshop-pratico-de-escrita-de-propostas-para-o-pilar-2-do-horizonte-europa/
END:VEVENT
END:VCALENDAR