BEGIN:VCALENDAR
VERSION:2.0
BEGIN:VEVENT
DTSTART:20251001
DTEND:20251001
SUMMARY:Rede Eureka promove webinar sobre a SMART Call 9
DESCRIPTION:Evento disponível no site: https://ani.pt/evento/rede-eureka-promove-webinar-sobre-a-smart-call-9/
LOCATION:Local do evento
URL:https://ani.pt/evento/rede-eureka-promove-webinar-sobre-a-smart-call-9/
END:VEVENT
END:VCALENDAR