BEGIN:VCALENDAR
VERSION:2.0
BEGIN:VEVENT
DTSTART:20251014
DTEND:20251014
SUMMARY:Rede Eureka promove webinar sobre a XECS Call 5
DESCRIPTION:Evento disponível no site: https://ani.pt/evento/rede-eureka-promove-webinar-sobre-a-xecs-call-5/
LOCATION:Local do evento
URL:https://ani.pt/evento/rede-eureka-promove-webinar-sobre-a-xecs-call-5/
END:VEVENT
END:VCALENDAR