BEGIN:VCALENDAR
VERSION:2.0
BEGIN:VEVENT
DTSTART:20250916
DTEND:20250916
SUMMARY:Inscrições abertas para os European Research &amp; Innovation Days 2025
DESCRIPTION:Evento disponível no site: https://ani.pt/evento/inscricoes-abertas-para-os-european-research-innovation-days-2025/
LOCATION:Local do evento
URL:https://ani.pt/evento/inscricoes-abertas-para-os-european-research-innovation-days-2025/
END:VEVENT
END:VCALENDAR