BEGIN:VCALENDAR
VERSION:2.0
BEGIN:VEVENT
DTSTART:20250927
DTEND:20250927
SUMMARY:HealthTech Synergy promove matchmaking entre startups e players do ecossistema europeu da saúde
DESCRIPTION:Evento disponível no site: https://ani.pt/evento/healthtech-synergy-promove-matchmaking-entre-startups-e-players-do-ecossistema-europeu-da-saude/
LOCATION:Local do evento
URL:https://ani.pt/evento/healthtech-synergy-promove-matchmaking-entre-startups-e-players-do-ecossistema-europeu-da-saude/
END:VEVENT
END:VCALENDAR