BEGIN:VCALENDAR
VERSION:2.0
BEGIN:VEVENT
DTSTART:20251015
DTEND:20251015
SUMMARY:EIT Education &amp; Skills Days promove inovação na educação e competências na Europa
DESCRIPTION:Evento disponível no site: https://ani.pt/evento/eit-education-skills-days-promove-inovacao-na-educacao-e-competencias-na-europa/
LOCATION:Local do evento
URL:https://ani.pt/evento/eit-education-skills-days-promove-inovacao-na-educacao-e-competencias-na-europa/
END:VEVENT
END:VCALENDAR