BEGIN:VCALENDAR
VERSION:2.0
BEGIN:VEVENT
DTSTART:20250903
DTEND:20250903
SUMMARY:Comissão Europeia organiza sessão de matchmaking para projetos de GenAI na Administração Pública
DESCRIPTION:Evento disponível no site: https://ani.pt/evento/comissao-europeia-organiza-sessao-de-matchmaking-para-projetos-de-genai-na-administracao-publica/
LOCATION:Local do evento
URL:https://ani.pt/evento/comissao-europeia-organiza-sessao-de-matchmaking-para-projetos-de-genai-na-administracao-publica/
END:VEVENT
END:VCALENDAR