BEGIN:VCALENDAR
VERSION:2.0
BEGIN:VEVENT
DTSTART:20250923
DTEND:20250923
SUMMARY:Workshop europeu destaca impacto das matérias-primas na transição sustentável
DESCRIPTION:Evento disponível no site: https://ani.pt/evento/workshop-europeu-destaca-impacto-das-materias-primas-na-transicao-sustentavel/
LOCATION:Local do evento
URL:https://ani.pt/evento/workshop-europeu-destaca-impacto-das-materias-primas-na-transicao-sustentavel/
END:VEVENT
END:VCALENDAR