BEGIN:VCALENDAR
VERSION:2.0
BEGIN:VEVENT
DTSTART:20250920
DTEND:20250920
SUMMARY:Horizon Europe – Funding and Networking Opportunities for Renewable Energy
DESCRIPTION:Evento disponível no site: https://ani.pt/evento/horizon-europe-funding-and-networking-opportunities-for-renewable-energy/
LOCATION:Local do evento
URL:https://ani.pt/evento/horizon-europe-funding-and-networking-opportunities-for-renewable-energy/
END:VEVENT
END:VCALENDAR