BEGIN:VCALENDAR
VERSION:2.0
BEGIN:VEVENT
DTSTART:20250919
DTEND:20250919
SUMMARY:Evento Nacional em Évora marca lançamento do Memorando de Cooperação entre Portugal e a Clean Aviation Joint Undertaking
DESCRIPTION:Evento disponível no site: https://ani.pt/evento/evento-nacional-em-evora-marca-lancamento-do-memorando-de-cooperacao-entre-portugal-e-a-clean-aviation-joint-undertaking/
LOCATION:Local do evento
URL:https://ani.pt/evento/evento-nacional-em-evora-marca-lancamento-do-memorando-de-cooperacao-entre-portugal-e-a-clean-aviation-joint-undertaking/
END:VEVENT
END:VCALENDAR