BEGIN:VCALENDAR
VERSION:2.0
BEGIN:VEVENT
DTSTART:20251001
DTEND:20251001
SUMMARY:Lisboa recebe a Conferência Europeia de Ciberdefesa e Cibersegurança
DESCRIPTION:Evento disponível no site: https://ani.pt/evento/lisboa-recebe-a-conferencia-europeia-de-ciberdefesa-e-ciberseguranca/
LOCATION:Local do evento
URL:https://ani.pt/evento/lisboa-recebe-a-conferencia-europeia-de-ciberdefesa-e-ciberseguranca/
END:VEVENT
END:VCALENDAR