BEGIN:VCALENDAR
VERSION:2.0
BEGIN:VEVENT
DTSTART:20251021
DTEND:20251021
SUMMARY:The Business Booster: Lisboa recebe o maior evento internacional de energias sustentáveis
DESCRIPTION:Evento disponível no site: https://ani.pt/evento/the-business-booster-lisboa-recebe-o-maior-evento-internacional-de-energias-sustentaveis/
LOCATION:Local do evento
URL:https://ani.pt/evento/the-business-booster-lisboa-recebe-o-maior-evento-internacional-de-energias-sustentaveis/
END:VEVENT
END:VCALENDAR