BEGIN:VCALENDAR
VERSION:2.0
BEGIN:VEVENT
DTSTART:20251029
DTEND:20251029
SUMMARY:ANI e ANACOM promovem sessão dedicada à área dos mundos virtuais e web 4.0
DESCRIPTION:Evento disponível no site: https://ani.pt/evento/ani-e-anacom-promovem-sessao-dedicada-a-area-dos-mundos-virtuais-e-web-4-0/
LOCATION:Local do evento
URL:https://ani.pt/evento/ani-e-anacom-promovem-sessao-dedicada-a-area-dos-mundos-virtuais-e-web-4-0/
END:VEVENT
END:VCALENDAR