BEGIN:VCALENDAR
VERSION:2.0
BEGIN:VEVENT
DTSTART:20251125
DTEND:20251125
SUMMARY:EIT Innovation Awards 2025
DESCRIPTION:Evento disponível no site: https://ani.pt/evento/eit-innovation-awards-2025/
LOCATION:Local do evento
URL:https://ani.pt/evento/eit-innovation-awards-2025/
END:VEVENT
END:VCALENDAR