BEGIN:VCALENDAR
VERSION:2.0
BEGIN:VEVENT
DTSTART:20251021
DTEND:20251021
SUMMARY:ANI apresenta oportunidades de financiamento em Segurança na SEGUREX 2025
DESCRIPTION:Evento disponível no site: https://ani.pt/evento/ani-apresenta-oportunidades-de-financiamento-em-seguranca-na-segurex-2025/
LOCATION:Local do evento
URL:https://ani.pt/evento/ani-apresenta-oportunidades-de-financiamento-em-seguranca-na-segurex-2025/
END:VEVENT
END:VCALENDAR