BEGIN:VCALENDAR
VERSION:2.0
BEGIN:VEVENT
DTSTART:20251119
DTEND:20251119
SUMMARY:ANI organiza sessão informativa sobre o European Innovation Council (EIC)
DESCRIPTION:Evento disponível no site: https://ani.pt/evento/ani-organiza-sessao-informativa-sobre-o-european-innovation-council-eic/
LOCATION:Local do evento
URL:https://ani.pt/evento/ani-organiza-sessao-informativa-sobre-o-european-innovation-council-eic/
END:VEVENT
END:VCALENDAR