BEGIN:VCALENDAR
VERSION:2.0
BEGIN:VEVENT
DTSTART:20251024
DTEND:20251024
SUMMARY:ANI acolhe sessões de trabalho para promover a inovação em Portugal através do teste e experimentação regulatória – Zonas Livres Tecnológicas
DESCRIPTION:Evento disponível no site: https://ani.pt/evento/ani-acolhe-sessoes-de-trabalho-para-promover-a-inovacao-em-portugal-atraves-do-teste-e-experimentacao-regulatoria-zonas-livres-tecnologicas/
LOCATION:Local do evento
URL:https://ani.pt/evento/ani-acolhe-sessoes-de-trabalho-para-promover-a-inovacao-em-portugal-atraves-do-teste-e-experimentacao-regulatoria-zonas-livres-tecnologicas/
END:VEVENT
END:VCALENDAR