BEGIN:VCALENDAR
VERSION:2.0
BEGIN:VEVENT
DTSTART:20251118
DTEND:20251118
SUMMARY:Innovation and Smart Specialization Forum
DESCRIPTION:Evento disponível no site: https://ani.pt/evento/innovation-and-smart-specialization-forum/
LOCATION:Local do evento
URL:https://ani.pt/evento/innovation-and-smart-specialization-forum/
END:VEVENT
END:VCALENDAR