BEGIN:VCALENDAR
VERSION:2.0
BEGIN:VEVENT
DTSTART:20251203
DTEND:20251203
SUMMARY:ANI organiza workshop prático dedicado ao reporte financeiro no programa Horizonte Europa
DESCRIPTION:Evento disponível no site: https://ani.pt/evento/ani-organiza-workshop-pratico-dedicado-ao-reporte-financeiro-no-programa-horizonte-europa/
LOCATION:Local do evento
URL:https://ani.pt/evento/ani-organiza-workshop-pratico-dedicado-ao-reporte-financeiro-no-programa-horizonte-europa/
END:VEVENT
END:VCALENDAR