BEGIN:VCALENDAR
VERSION:2.0
BEGIN:VEVENT
DTSTART:20251106
DTEND:20251106
SUMMARY:Universidade do Porto acolhe conferência europeia sobre cultura e criatividade
DESCRIPTION:Evento disponível no site: https://ani.pt/evento/universidade-do-porto-acolhe-conferencia-europeia-sobre-cultura-e-criatividade/
LOCATION:Local do evento
URL:https://ani.pt/evento/universidade-do-porto-acolhe-conferencia-europeia-sobre-cultura-e-criatividade/
END:VEVENT
END:VCALENDAR