BEGIN:VCALENDAR
VERSION:2.0
BEGIN:VEVENT
DTSTART:20251111
DTEND:20251111
SUMMARY:ANI marca presença na Web Summit 2025 com destaque para o conhecimento e a inovação de base tecnológica
DESCRIPTION:Evento disponível no site: https://ani.pt/evento/ani-marca-presenca-na-web-summit-2025-com-destaque-para-o-conhecimento-e-a-inovacao-de-base-tecnologica/
LOCATION:Local do evento
URL:https://ani.pt/evento/ani-marca-presenca-na-web-summit-2025-com-destaque-para-o-conhecimento-e-a-inovacao-de-base-tecnologica/
END:VEVENT
END:VCALENDAR