BEGIN:VCALENDAR
VERSION:2.0
BEGIN:VEVENT
DTSTART:20251110
DTEND:20251110
SUMMARY:ANI participa no arranque do projeto europeu CoDE Plug-In
DESCRIPTION:Evento disponível no site: https://ani.pt/evento/ani-participa-no-arranque-do-projeto-europeu-code-plug-in/
LOCATION:Local do evento
URL:https://ani.pt/evento/ani-participa-no-arranque-do-projeto-europeu-code-plug-in/
END:VEVENT
END:VCALENDAR